BEGIN:VCALENDAR
VERSION:2.0
PRODID:-//The Nerdy Wolf - ECPv6.15.20//NONSGML v1.0//EN
CALSCALE:GREGORIAN
METHOD:PUBLISH
X-WR-CALNAME:The Nerdy Wolf
X-ORIGINAL-URL:https://www.nerdywolf.com
X-WR-CALDESC:Events for The Nerdy Wolf
REFRESH-INTERVAL;VALUE=DURATION:PT1H
X-Robots-Tag:noindex
X-PUBLISHED-TTL:PT1H
BEGIN:VTIMEZONE
TZID:UTC
BEGIN:STANDARD
TZOFFSETFROM:+0000
TZOFFSETTO:+0000
TZNAME:UTC
DTSTART:20250101T000000
END:STANDARD
END:VTIMEZONE
BEGIN:VEVENT
DTSTART;VALUE=DATE:20260404
DTEND;VALUE=DATE:20260518
DTSTAMP:20260423T175821
CREATED:20260118T200323Z
LAST-MODIFIED:20260118T200323Z
UID:729-1775260800-1779062399@www.nerdywolf.com
SUMMARY:California Pleasure Faire
DESCRIPTION:The Nerdy Wolf will be attending the California Pleasure Faire  in California as a craft vendor 4/4/2026-5/17/2026. (Sat’s & Sun’s only) \nWe’re excited to be selling: \n– Handmade glass dip pens\n– Handmade hardback leather journals\n– Handmade wood box stationery kits\n– Handmade feather quills\n– Handmade ink wells\n– Handmade cloth leather dice bags\n– Handmade leather topped dice tins\n– Handmade leather wrapped potion bottles\n– Handmade whiskey flights w/ Glencairn whisky glasses\n– Handmade epoxy resin cast toy daggers made from silicon molds w/ optional leather dagger sheath \nFor more information on the fair\, please visit: \nhttps://renfair.com/socal/
URL:https://www.nerdywolf.com/event/california-pleasure-faire/
LOCATION:California Pleasure Faire\, 15501 Arrow Highway\, Irwindale\, CA\, 91706\, United States
END:VEVENT
END:VCALENDAR