BEGIN:VCALENDAR
VERSION:2.0
PRODID:-//The Nerdy Wolf - ECPv6.15.20//NONSGML v1.0//EN
CALSCALE:GREGORIAN
METHOD:PUBLISH
X-WR-CALNAME:The Nerdy Wolf
X-ORIGINAL-URL:https://www.nerdywolf.com
X-WR-CALDESC:Events for The Nerdy Wolf
REFRESH-INTERVAL;VALUE=DURATION:PT1H
X-Robots-Tag:noindex
X-PUBLISHED-TTL:PT1H
BEGIN:VTIMEZONE
TZID:UTC
BEGIN:STANDARD
TZOFFSETFROM:+0000
TZOFFSETTO:+0000
TZNAME:UTC
DTSTART:20250101T000000
END:STANDARD
END:VTIMEZONE
BEGIN:VEVENT
DTSTART;VALUE=DATE:20260207
DTEND;VALUE=DATE:20260330
DTSTAMP:20260423T213432
CREATED:20260118T195530Z
LAST-MODIFIED:20260118T195530Z
UID:725-1770422400-1774828799@www.nerdywolf.com
SUMMARY:Florida Renaissance Festival
DESCRIPTION:The Nerdy Wolf will be attending the Florida Renaissance Festival in Florida as a craft vendor 2/6/2026-3/29/2026. (Sat’s & Sun’s only) \nWe’re excited to be selling: \n– Handmade glass dip pens\n– Handmade hardback leather journals\n– Handmade wood box stationery kits\n– Handmade feather quills\n– Handmade ink wells\n– Handmade cloth leather dice bags\n– Handmade leather topped dice tins\n– Handmade leather wrapped potion bottles\n– Handmade whiskey flights w/ Glencairn whisky glasses\n– Handmade epoxy resin cast toy daggers made from silicon molds w/ optional leather dagger sheath \nFor more information on the fair\, please visit: https://www.ren-fest.com/
URL:https://www.nerdywolf.com/event/florida-renaissance-festival/
LOCATION:Florida Renaissance Festival\, 401 S. Powerline Road\, Deerfield Beach\, FL\, 33442\, United States
END:VEVENT
END:VCALENDAR